BEGIN:VCALENDAR
VERSION:2.0
PRODID:-//Freiwillige Feuerwehr Untermaxfeld//NONSGML kigkonsult.se iCalcreator 2.41.92//
CALSCALE:GREGORIAN
METHOD:PUBLISH
UID:34636335-3133-4565-b033-366462656165
X-WR-CALNAME:iCagenda
X-WR-CALDESC:Event Management Extension for Joomla!
X-WR-RELCALID:3E26604A-50F4-4449-8B3E-E4F4932D05B5
X-WR-TIMEZONE:UTC
BEGIN:VTIMEZONE
TZID:UTC
END:VTIMEZONE
BEGIN:VEVENT
UID:33303933-3061-4664-a264-326632323239
DTSTAMP:20260420T165122Z
CATEGORIES:First Responder
CLASS:PUBLIC
DESCRIPTION;ALTREP="CID:<FFFF__=0ABBE548DFE235B58f9e8a93d@coffeebean.com>":
 Feuerwehrübung für die First Responder.\nÜbungsbeginn Sommerzeit: 19:30 Uh
 r\nÜbungsbeginn Winterzeit: 19:00 Uhr
DTSTART:20260417T193000Z
DTEND:20260417T193000Z
GEO:+48.665066;+11.216711
LOCATION:Freiwillige Feuerwehr Untermaxfeld
ORGANIZER;CN=:mailto:termin@ffw-untermaxfeld.de
SEQUENCE:1
SUMMARY:First Responder
TRANSP:OPAQUE
URL:https://ffw-untermaxfeld.de/index.php/component/icagenda/20-first-respo
 nder/2026-04-17-19-30?Itemid=148
END:VEVENT
END:VCALENDAR
