BEGIN:VCALENDAR
VERSION:2.0
PRODID:-//Freiwillige Feuerwehr Untermaxfeld//NONSGML kigkonsult.se iCalcreator 2.41.92//
CALSCALE:GREGORIAN
METHOD:PUBLISH
UID:62303535-3437-4264-b139-373935323739
X-WR-CALNAME:iCagenda
X-WR-CALDESC:Event Management Extension for Joomla!
X-WR-RELCALID:3E26604A-50F4-4449-8B3E-E4F4932D05B5
X-WR-TIMEZONE:UTC
BEGIN:VTIMEZONE
TZID:UTC
END:VTIMEZONE
BEGIN:VEVENT
UID:35643730-6234-4565-b232-303539616137
DTSTAMP:20260425T111536Z
CATEGORIES:Sonstiges
CLASS:PUBLIC
DESCRIPTION:
DTSTART:20251115T160000Z
DTEND:20251115T235900Z
GEO:+48.67495;+11.227983
LOCATION:Donaumooshalle - Pfalzstraße 61 - 86669 Königsmoos
ORGANIZER;CN=:mailto:termin@ffw-untermaxfeld.de
SEQUENCE:1
SUMMARY:Einweihung 10/1 und 11/1
TRANSP:OPAQUE
URL:https://ffw-untermaxfeld.de/index.php/component/icagenda/21-einweihung-
 10-1-und-11-1?Itemid=148
END:VEVENT
END:VCALENDAR
