BEGIN:VCALENDAR
VERSION:2.0
PRODID:-//Freiwillige Feuerwehr Untermaxfeld//NONSGML kigkonsult.se iCalcreator 2.41.92//
CALSCALE:GREGORIAN
METHOD:PUBLISH
UID:63363736-3138-4435-a339-336462303332
X-WR-CALNAME:iCagenda
X-WR-CALDESC:Event Management Extension for Joomla!
X-WR-RELCALID:3E26604A-50F4-4449-8B3E-E4F4932D05B5
X-WR-TIMEZONE:UTC
BEGIN:VTIMEZONE
TZID:UTC
END:VTIMEZONE
BEGIN:VEVENT
UID:33636636-3063-4633-b465-646264303963
DTSTAMP:20260424T032004Z
CATEGORIES:Jahreshauptversammlung
CLASS:PUBLIC
DESCRIPTION;ALTREP="CID:<FFFF__=0ABBE548DFE235B58f9e8a93d@coffeebean.com>":
 Einladung zur Generalversammlung\nAm Samstag\, den 14.03.26 findet im Feue
 rwehrhaus in Stengelheim unsere Jahreshauptversammlung statt.\nBeginn ist 
 um 19:00 Uhr.\nTagesordnung:  1. Begrüßung2. Totenehrung3. Bericht des 1. 
 Kommandanten4. Bericht des Atemschutzbeauftragten5. Bericht des Jugendwart
 s6. Bericht der First Responder Leitung7. Bericht des 1. Vorstands8. Beric
 ht des Kassiers9. Bericht der Kassenprüfer &amp\; Entlastung der Vorstands
 chaft10. Grußworte11. Ehrungen12. Wünsche und Anträge\nUm zahlreiche Teiln
 ahme wird gebeten!
DTSTART:20260314T190000Z
DTEND:20260314T230000Z
GEO:+48.665066;+11.216711
LOCATION:Freiwillige Feuerwehr Untermaxfeld
ORGANIZER;CN=:mailto:termin@ffw-untermaxfeld.de
SEQUENCE:1
SUMMARY:Jahreshauptversammlung
TRANSP:OPAQUE
URL:https://ffw-untermaxfeld.de/index.php/component/icagenda/9-jahreshauptv
 ersammlung?Itemid=148
END:VEVENT
END:VCALENDAR
