BEGIN:VCALENDAR
VERSION:2.0
PRODID:-//Freiwillige Feuerwehr Untermaxfeld//NONSGML kigkonsult.se iCalcreator 2.41.92//
CALSCALE:GREGORIAN
METHOD:PUBLISH
UID:34616538-6531-4336-a134-636435613961
X-WR-CALNAME:iCagenda
X-WR-CALDESC:Event Management Extension for Joomla!
X-WR-RELCALID:3E26604A-50F4-4449-8B3E-E4F4932D05B5
X-WR-TIMEZONE:UTC
BEGIN:VTIMEZONE
TZID:UTC
END:VTIMEZONE
BEGIN:VEVENT
UID:34613635-6261-4264-b264-366661623339
DTSTAMP:20260420T154604Z
CATEGORIES:Mannschaftsübung/Atemschutz
CLASS:PUBLIC
DESCRIPTION;ALTREP="CID:<FFFF__=0ABBE548DFE235B58f9e8a93d@coffeebean.com>":
 Feuerwehrübung für die aktive Mannschaft und Atemschutz.\nÜbungsbeginn Som
 merzeit: 19:30 Uhr\nÜbungsbeginn Winterzeit: 19:00 Uhr
DTSTART:20261209T190000Z
DTEND:20261209T190000Z
GEO:+48.665066;+11.216711
LOCATION:Freiwillige Feuerwehr Untermaxfeld
ORGANIZER;CN=:mailto:termin@ffw-untermaxfeld.de
SEQUENCE:1
SUMMARY:Mannschaftsübung / Atemschutz
TRANSP:OPAQUE
URL:https://ffw-untermaxfeld.de/index.php/ct-menu1-item3/ct-menu1-item4/13-
 mannschaftsuebung-atemschutz/2026-12-09-19-00
END:VEVENT
END:VCALENDAR
