BEGIN:VCALENDAR
VERSION:2.0
PRODID:-//Freiwillige Feuerwehr Untermaxfeld//NONSGML kigkonsult.se iCalcreator 2.41.92//
CALSCALE:GREGORIAN
METHOD:PUBLISH
UID:65333063-3734-4232-b535-333931643265
X-WR-CALNAME:iCagenda
X-WR-CALDESC:Event Management Extension for Joomla!
X-WR-RELCALID:3E26604A-50F4-4449-8B3E-E4F4932D05B5
X-WR-TIMEZONE:UTC
BEGIN:VTIMEZONE
TZID:UTC
END:VTIMEZONE
BEGIN:VEVENT
UID:62313831-3633-4763-b863-653434613231
DTSTAMP:20260420T154744Z
CATEGORIES:Übung Maschinisten / Gruppenführer und Gerätepflege
CLASS:PUBLIC
DESCRIPTION;ALTREP="CID:<FFFF__=0ABBE548DFE235B58f9e8a93d@coffeebean.com>":
 Gerätepflege und Übung Maschinisten und Gruppenführer.\nÜbungsbeginn: 16:0
 0 Uhr
DTSTART:20261017T160000Z
DTEND:20261017T160000Z
GEO:+48.665066;+11.216711
LOCATION:Freiwillige Feuerwehr Untermaxfeld
ORGANIZER;CN=:mailto:termin@ffw-untermaxfeld.de
SEQUENCE:1
SUMMARY:Übung Maschinisten / Gruppenführer und Gerätepflege
TRANSP:OPAQUE
URL:https://ffw-untermaxfeld.de/index.php/ct-menu1-item3/ct-menu1-item4/19-
 uebung-maschinisten-gruppenfuehrer-und-geraetepflege/2026-10-17-16-00
END:VEVENT
END:VCALENDAR
